BEGIN:VCALENDAR
VERSION:2.0
PRODID:-//eventon.com NONSGML v1.0//EN
CALSCALE:GREGORIAN
METHOD:PUBLISH
BEGIN:VEVENT
UID:69e611a91cc7c
DTSTAMP:20260420T114441Z
DTSTART:20260831T220000Z
DTEND:20260831T230000Z
LOCATION:
SUMMARY:Centering Prayer
DESCRIPTION:What if prayer was less talking TO God and more being WITH God?
  Centering Prayer is a way to move from the many words of your mind to re-c
 enter yourself in God by means of your own heart\,  the center of your bein
 g. Centering Prayer meets Mondays\,  Wednesdays &amp; Fridays[..]\nhttps://
 thecenterfcs.org/events/centering-prayer-groups-virtual/var/ri-260.l-L1
URL:https://thecenterfcs.org/events/centering-prayer-groups-virtual/var/ri-260.l-L1
END:VEVENT
END:VCALENDAR