BEGIN:VCALENDAR
VERSION:2.0
PRODID:-//eventon.com NONSGML v1.0//EN
CALSCALE:GREGORIAN
METHOD:PUBLISH
BEGIN:VEVENT
UID:69e4ef46e6c38
DTSTAMP:20260419T150542Z
DTSTART:20260806T000000Z
DTEND:20260806T000000Z
LOCATION:
SUMMARY:Summer Reading Book Discussion
DESCRIPTION:Beautifully written stories of kindness and neighborliness are 
 always timely\,  but perhaps especially so now.  Join us for a book discus
 sion about Theo of Golden by Allen Levi There is a morning (10am) and eveni
 ng (7pm) discussion option. Please register in advance. REGISTER TO ATTEND\
 nhttps://thecenterfcs.org/events/summer-reading-book-discussion-2/
URL:https://thecenterfcs.org/events/summer-reading-book-discussion-2/
END:VEVENT
END:VCALENDAR