BEGIN:VCALENDAR
VERSION:2.0
PRODID:-//eventon.com NONSGML v1.0//EN
CALSCALE:GREGORIAN
METHOD:PUBLISH
BEGIN:VEVENT
UID:69e5e3d72254c
DTSTAMP:20260420T082911Z
DTSTART:20260419T223000Z
DTEND:20260419T233000Z
LOCATION:The Anchor House 11110 Greenbay St.
SUMMARY:New to The Center
DESCRIPTION:Join us for dinner at The Anchor House to learn more about Cont
 emplative Worship\,  The Center’s ongoing experiences and offerings\,  wa
 ys to serve or how to get more plugged into the community. This gathering i
 s for anyone who might be thinking of becoming a formal member or just look
 ing to[..]\nhttps://thecenterfcs.org/events/new-to-the-center-2/
URL:https://thecenterfcs.org/events/new-to-the-center-2/
END:VEVENT
END:VCALENDAR