BEGIN:VCALENDAR
VERSION:2.0
PRODID:-//eventon.com NONSGML v1.0//EN
CALSCALE:GREGORIAN
METHOD:PUBLISH
BEGIN:VEVENT
UID:69e5e3cd18608
DTSTAMP:20260420T082901Z
DTSTART:20260808T140000Z
DTEND:20260808T190000Z
LOCATION:The Anchor House 11110 Greenbay St.
SUMMARY:August Guided Silent Retreat
DESCRIPTION:Chasing Stillness is a contemplative retreat inspired by the ge
 ntle wisdom behind Taizé music and prayer—where repetition creates space
 \,  variation keeps the soul attentive\,  simplicity reveals what is most i
 mportant\,  and stillness is received rather than achieved. Through shared 
 practices of silence\,  listening\,  rhythm\,  and reflection\,  participan
 ts are invited into[..]\nhttps://thecenterfcs.org/events/august-guided-sile
 nt-retreat-3/
URL:https://thecenterfcs.org/events/august-guided-silent-retreat-3/
END:VEVENT
END:VCALENDAR