BEGIN:VCALENDAR
VERSION:2.0
PRODID:-//eventon.com NONSGML v1.0//EN
CALSCALE:GREGORIAN
METHOD:PUBLISH
BEGIN:VEVENT
UID:69e5f8a2071b8
DTSTAMP:20260420T095754Z
DTSTART:20260622T000000Z
DTEND:20260621T133000Z
LOCATION:The Anchor House 11110 Greenbay St.
SUMMARY:Honoring the Summer Solstice
DESCRIPTION:We are looking forward to welcoming you and anyone you might wa
 nt to bring with you for this evening to honor the Summer Solstice. This ye
 ar we will be gathering on the hour (7 pm) to open the labyrinth with some 
 readings to center ourselves. This gathering time is optional[..]\nhttps://
 thecenterfcs.org/events/honoring-the-summer-solstice/
URL:https://thecenterfcs.org/events/honoring-the-summer-solstice/
END:VEVENT
END:VCALENDAR