BEGIN:VCALENDAR
VERSION:2.0
PRODID:-//eventon.com NONSGML v1.0//EN
CALSCALE:GREGORIAN
METHOD:PUBLISH
BEGIN:VEVENT
UID:69e5f845c8878
DTSTAMP:20260420T095621Z
DTSTART:20260516T143000Z
DTEND:20260516T203000Z
LOCATION:The Anchor House 11110 Greenbay St.
SUMMARY:Change Your World SoulCollage® Workshop
DESCRIPTION:SoulCollage® invites us into balance as an inner and outer jou
 rney as voiced in the SoulCollage® tagline: &#8220;Discover your Wisdom! C
 hange your World!&#8221; Rev. Cindy Serio leads us into the inner journey t
 his month. Come! Change your World! If you have not previously attended a S
 oulCollage Introduction\,  please come at[..]\nhttps://thecenterfcs.org/eve
 nts/change-your-world-soulcollage-workshop/
URL:https://thecenterfcs.org/events/change-your-world-soulcollage-workshop/
END:VEVENT
END:VCALENDAR