BEGIN:VCALENDAR
VERSION:2.0
PRODID:-//eventon.com NONSGML v1.0//EN
CALSCALE:GREGORIAN
METHOD:PUBLISH
BEGIN:VEVENT
UID:69e5e3dc41a95
DTSTAMP:20260420T082916Z
DTSTART:20260502T183000Z
DTEND:20260502T210000Z
LOCATION:The Anchor House 11110 Greenbay St.
SUMMARY:World Labyrinth Day SoulCollage® Workshop
DESCRIPTION:Join SoulCollage® Facilitators Cindy Serio &amp; Ginny Itz aft
 er the World Labyrinth Day Walk as One at 1 pm to create a SoulCollage® pr
 ayer card for world peace and gather to share our experience. We&#8217;ll o
 ffer an Introduction to SoulCollage® at 1:30pm for those who want to learn
  more about[..]\nhttps://thecenterfcs.org/events/world-labyrinth-day-worksh
 op/
URL:https://thecenterfcs.org/events/world-labyrinth-day-workshop/
END:VEVENT
END:VCALENDAR