BEGIN:VCALENDAR
VERSION:2.0
PRODID:-//eventon.com NONSGML v1.0//EN
CALSCALE:GREGORIAN
METHOD:PUBLISH
BEGIN:VEVENT
UID:69e5f89b437c7
DTSTAMP:20260420T095747Z
DTSTART:20260502T180000Z
DTEND:20260502T183000Z
LOCATION:The Anchor House 11110 Greenbay St.
SUMMARY:World Labyrinth Day Walk
DESCRIPTION:Every year on the first Saturday in May thousands of people aro
 und the globe participate in World Labyrinth Day as a moving meditation for
  world peace and celebration of the labyrinth experience. Many “Walk as O
 ne at 1” local time to create a rolling wave of peaceful energy passing f
 rom[..]\nhttps://thecenterfcs.org/events/world-labyrinth-day-walk/
URL:https://thecenterfcs.org/events/world-labyrinth-day-walk/
END:VEVENT
END:VCALENDAR