BEGIN:VCALENDAR
VERSION:2.0
PRODID:-//eventon.com NONSGML v1.0//EN
CALSCALE:GREGORIAN
METHOD:PUBLISH
BEGIN:VEVENT
UID:69e5f87a1a401
DTSTAMP:20260420T095714Z
DTSTART:20260418T143000Z
DTEND:20260418T203000Z
LOCATION:The Anchor House 11110 Greenbay St.
SUMMARY:Discover Your Wisdom SoulCollage® Workshop
DESCRIPTION:SoulCollage® invites us into balance as an inner and outer jou
 rney as voiced in the SoulCollage® tagline: &#8220;Discover your Wisdom! C
 hange your World!&#8221; Rev. Cindy Serio leads us into the inner journey t
 his month. Come! Discover your Wisdom! If you have not previously attended 
 a SoulCollage Introduction\,  please come at[..]\nhttps://thecenterfcs.org/
 events/discover-your-wisdom/
URL:https://thecenterfcs.org/events/discover-your-wisdom/
END:VEVENT
END:VCALENDAR