BEGIN:VCALENDAR
VERSION:2.0
PRODID:-//eventon.com NONSGML v1.0//EN
CALSCALE:GREGORIAN
METHOD:PUBLISH
BEGIN:VEVENT
UID:69e5fab5f376e
DTSTAMP:20260420T100645Z
DTSTART:20260628T134500Z
DTEND:20260628T144500Z
LOCATION:The Chapel 11140 Greenbay St.
SUMMARY:Becoming a Member Sunday
DESCRIPTION:We welcome new members to The Center during Contemplative Worsh
 ip on Sunday\,  June 28.\nhttps://thecenterfcs.org/events/becoming-a-member
 -sunday/
URL:https://thecenterfcs.org/events/becoming-a-member-sunday/
END:VEVENT
END:VCALENDAR