BEGIN:VCALENDAR
VERSION:2.0
PRODID:-//eventon.com NONSGML v1.0//EN
CALSCALE:GREGORIAN
METHOD:PUBLISH
BEGIN:VEVENT
UID:69e5f815eeca0
DTSTAMP:20260420T095533Z
DTSTART:20260624T163000Z
DTEND:20260624T173000Z
LOCATION:Gessner Campus at Fair Haven 1330 Gessner Road Houston\,  TX 77055
SUMMARY:Serve Community Lunch
DESCRIPTION:The Center will join the Gessner Community of Fair Haven\,  the
  Food Pantry\,  Generaciones and more to help serve a free lunch offered to
  the community. Sign Up Coming Soon\nhttps://thecenterfcs.org/events/serve-
 community-lunch/
URL:https://thecenterfcs.org/events/serve-community-lunch/
END:VEVENT
END:VCALENDAR