BEGIN:VCALENDAR
VERSION:2.0
PRODID:-//eventon.com NONSGML v1.0//EN
CALSCALE:GREGORIAN
METHOD:PUBLISH
BEGIN:VEVENT
UID:69e5fa92f08dc
DTSTAMP:20260420T100610Z
DTSTART:20260613T140000Z
DTEND:20260613T190000Z
LOCATION:The Anchor House 11110 Greenbay St.
SUMMARY:June Guided Silent Retreat
DESCRIPTION:Saturday\,  June 13 | 9:00am &#8211; 2:00pm | The Anchor House 
 | $35 A Guided Silent Retreat in the Way of Divine Love This guided silent 
 retreat invites participants into the luminous and daring spirituality of t
 he French mystic Marguerite Porete\,  author of The Mirror of Simple Souls\
 ,  who was[..]\nhttps://thecenterfcs.org/events/june-guided-silent-retreat-
 3/
URL:https://thecenterfcs.org/events/june-guided-silent-retreat-3/
END:VEVENT
END:VCALENDAR