BEGIN:VCALENDAR
VERSION:2.0
PRODID:-//eventon.com NONSGML v1.0//EN
CALSCALE:GREGORIAN
METHOD:PUBLISH
BEGIN:VEVENT
UID:69e5fab731fb5
DTSTAMP:20260420T100647Z
DTSTART:20260509T140000Z
DTEND:20260509T190000Z
LOCATION:The Anchor House 11110 Greenbay St.
SUMMARY:May Guided Silent Retreat
DESCRIPTION:Saturday\,  May 9 | 9:00am &#8211; 2:00pm | The Anchor House | 
 $35 Join us as we explore the spirituality of 17th century French contempla
 tive Brother Lawrence of the Resurrection and his method of “practicing t
 he Presence of God… for the love of God.” Elements of the day include l
 arge[..]\nhttps://thecenterfcs.org/events/may-guided-silent-retreat-3/
URL:https://thecenterfcs.org/events/may-guided-silent-retreat-3/
END:VEVENT
END:VCALENDAR