BEGIN:VCALENDAR
VERSION:2.0
PRODID:-//eventon.com NONSGML v1.0//EN
CALSCALE:GREGORIAN
METHOD:PUBLISH
BEGIN:VEVENT
UID:69e5fa93234f5
DTSTAMP:20260420T100611Z
DTSTART:20260411T140000Z
DTEND:20260411T190000Z
LOCATION:The Anchor House 11110 Greenbay St.
SUMMARY:April Guided Silent Retreat
DESCRIPTION:Saturday\,  April 11 | 9:00am &#8211; 2:00pm | The Anchor House
  | $35 When you were a child\,  what were your favorite picture books? Do y
 ou remember why those were your favorite? Now as an adult – perhaps one w
 ho enjoys books with the children in your life – how[..]\nhttps://thecent
 erfcs.org/events/april-guided-silent-retreat-2/
URL:https://thecenterfcs.org/events/april-guided-silent-retreat-2/
END:VEVENT
END:VCALENDAR