BEGIN:VCALENDAR
VERSION:2.0
PRODID:-//eventon.com NONSGML v1.0//EN
CALSCALE:GREGORIAN
METHOD:PUBLISH
BEGIN:VEVENT
UID:69e5f834d1439
DTSTAMP:20260420T095604Z
DTSTART:20260513T230000Z
DTEND:20260514T000000Z
LOCATION:Chapelwood UMC Sanctuary
SUMMARY:Contemplative Choir and Chancel Bells Mini Concert
DESCRIPTION:Join us for an informal concert by the Contemplative Choir who 
 sing regularly in the 8:45 Contemplative Worship Service\,  and the Chancel
  Bells who perform regularly in the Sanctuary. This concert will feature pe
 rformances of music that would fall out of the scope of Sunday Morning Wors
 hip and gives the[..]\nhttps://thecenterfcs.org/events/concert/
URL:https://thecenterfcs.org/events/concert/
END:VEVENT
END:VCALENDAR