BEGIN:VCALENDAR
VERSION:2.0
PRODID:-//eventon.com NONSGML v1.0//EN
CALSCALE:GREGORIAN
METHOD:PUBLISH
BEGIN:VEVENT
UID:69e5e38dbde5c
DTSTAMP:20260420T082757Z
DTSTART:20260405T134500Z
DTEND:20260405T144500Z
LOCATION:The Chapel 11140 Greenbay St.
SUMMARY:Contemplative Easter Sunday Worship
DESCRIPTION:Celebrate the risen Christ with us at The Center for Christian 
 Spirituality. Childcare for infants through 3-year-olds will be available i
 n the Chapelwood nursery. Children 4 and up are invited to worship with the
 ir families in the Chapel\nhttps://thecenterfcs.org/events/contemplative-ea
 ster-sunday-worship/
URL:https://thecenterfcs.org/events/contemplative-easter-sunday-worship/
END:VEVENT
END:VCALENDAR