BEGIN:VCALENDAR
VERSION:2.0
PRODID:-//eventon.com NONSGML v1.0//EN
CALSCALE:GREGORIAN
METHOD:PUBLISH
BEGIN:VEVENT
UID:69e5f7d1be379
DTSTAMP:20260420T095425Z
DTSTART:20260403T170000Z
DTEND:20260404T045900Z
LOCATION:The Chapel 11140 Greenbay St.
SUMMARY:Good Friday Worship
DESCRIPTION:Luke 23:44 tells us that when Jesus was crucified\,  darkness f
 ell across the land. Join us in the Chapel at Noon on Good Friday for a sim
 ple service of readings and instrumental violin and piano music\,  for an o
 pportunity to sit in darkness and stillness and encounter God there. Childc
 are[..]\nhttps://thecenterfcs.org/events/good-friday-worship/
URL:https://thecenterfcs.org/events/good-friday-worship/
END:VEVENT
END:VCALENDAR