BEGIN:VCALENDAR
VERSION:2.0
PRODID:-//eventon.com NONSGML v1.0//EN
CALSCALE:GREGORIAN
METHOD:PUBLISH
BEGIN:VEVENT
UID:69e5e390caf40
DTSTAMP:20260420T082800Z
DTSTART:20260307T150000Z
DTEND:20260307T180000Z
LOCATION:The Anchor House 11110 Greenbay St.
SUMMARY:Creative Space
DESCRIPTION:Sometimes you just need a new way to express our spirituality. 
 The ways you&#8217;ve been connecting with God feel like they&#8217;re fall
 ing flat and you&#8217;re not sure what to do. A new practice can tap into 
 new aspects of yourself and your awareness of God. Creative Space is a nurt
 uring\, [..]\nhttps://thecenterfcs.org/events/creative-space/
URL:https://thecenterfcs.org/events/creative-space/
END:VEVENT
END:VCALENDAR