BEGIN:VCALENDAR
VERSION:2.0
PRODID:-//eventon.com NONSGML v1.0//EN
CALSCALE:GREGORIAN
METHOD:PUBLISH
BEGIN:VEVENT
UID:69e5e3d2378c7
DTSTAMP:20260420T082906Z
DTSTART:20260305T003000Z
DTEND:20260305T020000Z
LOCATION:The Anchor House 11110 Greenbay St.
SUMMARY:The Enneagram Map to Your Deeper Self
DESCRIPTION:Facilitated by Rev. Rachel Sciretti | Selected Wednesdays in Ma
 rch &amp; April | 6:30-8:00pm | The Anchor House “You are much more than 
 your personality type. The Enneagram Map to Your Deeper Self is an invitati
 on to see ourselves as more than we believe we are\,  and to learn and[..]\
 nhttps://thecenterfcs.org/events/the-enneagram-map-to-your-deeper-self/
URL:https://thecenterfcs.org/events/the-enneagram-map-to-your-deeper-self/
END:VEVENT
END:VCALENDAR