BEGIN:VCALENDAR
VERSION:2.0
PRODID:-//eventon.com NONSGML v1.0//EN
CALSCALE:GREGORIAN
METHOD:PUBLISH
BEGIN:VEVENT
UID:69e5fab95215f
DTSTAMP:20260420T100649Z
DTSTART:20260416T153000Z
DTEND:20260416T160000Z
LOCATION:The Anchor House 11110 Greenbay St.
SUMMARY:Where Sound Meets Silence
DESCRIPTION:Selected Thursdays 10:30am The Great Room\,  The Anchor House H
 ave you ever found your keys in the very place you’d already searched—a
 gain and again—only to realize your eyes had been told not to see?Scriptu
 re can be like that. Words once alive with wonder can become so familiar th
 at we no[..]\nhttps://thecenterfcs.org/events/where-sound-meets-silence-2/
URL:https://thecenterfcs.org/events/where-sound-meets-silence-2/
END:VEVENT
END:VCALENDAR