BEGIN:VCALENDAR
VERSION:2.0
PRODID:-//eventon.com NONSGML v1.0//EN
CALSCALE:GREGORIAN
METHOD:PUBLISH
BEGIN:VEVENT
UID:69e5f7e1911dd
DTSTAMP:20260420T095441Z
DTSTART:20260628T150000Z
DTEND:20260628T163000Z
LOCATION:The Anchor House 11110 Greenbay St.
SUMMARY:Community Gathering & Potluck
DESCRIPTION:Join us for a community gathering and potluck in The Anchor Hou
 se for a time of fellowship before we break for our time of sabbath during 
 July. Bring your favorite summer sweet or savory dish to share. The Anchor 
 House will be open before worship for folks to drop off[..]\nhttps://thecen
 terfcs.org/events/community-gathering-potluck/
URL:https://thecenterfcs.org/events/community-gathering-potluck/
END:VEVENT
END:VCALENDAR