BEGIN:VCALENDAR
VERSION:2.0
PRODID:-//eventon.com NONSGML v1.0//EN
CALSCALE:GREGORIAN
METHOD:PUBLISH
BEGIN:VEVENT
UID:69eb9030b389f
DTSTAMP:20260424T154552Z
DTSTART:20260519T233000Z
DTEND:20260520T003000Z
LOCATION:The Anchor House 11110 Greenbay St.
SUMMARY:Poetry Circle
DESCRIPTION:The Poetry Circle with Mark Jodon meets the third Tuesday of
  the month. The Center’s poetry circle will share and critique our po
 ems\,  explore poetic forms and devices\,  try our hands at writing promp
 ts\,  and grow together in fellowship and community.  This circle is for
  anyone who loves poetry\,  no matter your writing experience level. If yo
 u&#8217;re interested in joining the Poetry Circle\,  contact[..]\nhttps:
 //thecenterfcs.org/events/poetry-circle-2/var/ri-15.l-L1
URL:https://thecenterfcs.org/events/poetry-circle-2/var/ri-15.l-L1
END:VEVENT
END:VCALENDAR