BEGIN:VCALENDAR
VERSION:2.0
PRODID:-//eventon.com NONSGML v1.0//EN
CALSCALE:GREGORIAN
METHOD:PUBLISH
BEGIN:VEVENT
UID:69e5f7e1cc1f7
DTSTAMP:20260420T095441Z
DTSTART:20260719T180000Z
DTEND:20260719T210000Z
LOCATION:The Anchor House 11110 Greenbay St.
SUMMARY:SoulCollage Open Studio
DESCRIPTION:A single image can tell a thousand stories &#8230; This is a da
 y for finding what you need in a space without a theme or agenda\,  for imm
 ersing yourself in images\,  for making cards &amp; journaling with them\, 
  for contemplating life and considering how our inner voices are making the
 mselves[..]\nhttps://thecenterfcs.org/events/soulcollage-open-studio-2/
URL:https://thecenterfcs.org/events/soulcollage-open-studio-2/
END:VEVENT
END:VCALENDAR