BEGIN:VCALENDAR
VERSION:2.0
PRODID:-//eventon.com NONSGML v1.0//EN
CALSCALE:GREGORIAN
METHOD:PUBLISH
BEGIN:VEVENT
UID:69e5e38f9d153
DTSTAMP:20260420T082759Z
DTSTART:20260402T233000Z
DTEND:20260403T010000Z
LOCATION:The Anchor House 11110 Greenbay St.
SUMMARY:Maundy Thursday Sacred Supper
DESCRIPTION:Join us for a special Sacred Supper in The Anchor House. This w
 ill be a different kind of potluck dinner where we remember the Last Supper
  where Jesus broke bread and gave thanks with his beloved ones. After suppe
 r we will have a brief liturgy and celebrate communion. Please R.S.V.P.[..]
 \nhttps://thecenterfcs.org/events/maundy-thursday-sacred-supper/
URL:https://thecenterfcs.org/events/maundy-thursday-sacred-supper/
END:VEVENT
END:VCALENDAR