BEGIN:VCALENDAR
VERSION:2.0
PRODID:-//eventon.com NONSGML v1.0//EN
CALSCALE:GREGORIAN
METHOD:PUBLISH
BEGIN:VEVENT
UID:69e5e39ddeffb
DTSTAMP:20260420T082813Z
DTSTART:20260401T233000Z
DTEND:20260402T010000Z
LOCATION:The Anchor House 11110 Greenbay St.
SUMMARY:Holy Wednesday
DESCRIPTION:Enter into the Holy Wednesday narrative of Mary Magdalene anoin
 ting Jesus. After a brief time of welcome\,  we will enter into a Contempla
 tive Remembrance of this act that Jesus said\,  “truly\,  I say to you\, 
  wherever the gospel is proclaimed in the whole world\,  what she has done 
 will be[..]\nhttps://thecenterfcs.org/events/holy-wednesday/
URL:https://thecenterfcs.org/events/holy-wednesday/
END:VEVENT
END:VCALENDAR