BEGIN:VCALENDAR
VERSION:2.0
PRODID:-//eventon.com NONSGML v1.0//EN
CALSCALE:GREGORIAN
METHOD:PUBLISH
BEGIN:VEVENT
UID:69e6113cdc8f7
DTSTAMP:20260420T114252Z
DTSTART:20260505T153000Z
DTEND:20260505T170000Z
LOCATION:The Anchor House 11110 Greenbay St.
SUMMARY:Prayer Shawl Group
DESCRIPTION:We&nbsp;meet in the Great Room in the Anchor House to pray\,  s
 hare\,  knit or crochet\,  and bless prayer shawls that have been completed
 . These shawls are gifted to individuals as a tangible embrace of God&#8217
 ;s love and mercy. Shawls are given to individuals facing a major health is
 sue\,  death\,  or[..]\nhttps://thecenterfcs.org/events/prayer-shawl-group/
 var/ri-8.l-L1
URL:https://thecenterfcs.org/events/prayer-shawl-group/var/ri-8.l-L1
END:VEVENT
END:VCALENDAR